Workbook
Name My_Query: LogHome!$A$2:$E$42
Name My_Query: Other!$A$4:$F$4
Name My_Query: Pellet!$A$4:$F$10
Name My_Query: 'Pulp&Paper'!$A$4:$G$32
Name My_Query: 'Shake&Shingle'!$A$4:$F$34
Name My_Query: Veneer_Plywood_OSB_OtherPanel!$A$4:$G$31
Name My_Query: Chip!$A$3:$F$14

Sheet ConsistentHeaders
A1: SURVEY YEAR | C1: 2011
A2: Mill Number | B2: Company | C2: Location of Mill | D2: 2009 Forest Region | E2: 2009 Forest District

Sheet Chip
F1: ="CHIP MILLS - "&ConsistentHeaders!C1 -> CHIP MILLS - 2011
A2: =ConsistentHeaders!A2 -> Mill Number | B2: =ConsistentHeaders!B2 -> Company | C2: =ConsistentHeaders!C2 -> Location of Mill | D2: =ConsistentHeaders!D2 -> 2009 Forest Region | E2: =ConsistentHeaders!E2 -> 2009 Forest District | F2: Estimated Annual Capacity (000s of BDUs)
A3: =[1]My_Query!A2 -> 446 | B3: =[1]My_Query!B2 -> Campbell River Fibre Ltd. | C3: =[1]My_Query!C2 -> Campbell River | D3: =[1]My_Query!D2 -> Coast | E3: =[1]My_Query!E2 -> Campbell River | F3: =[1]My_Query!F2 -> 86.4
A4: =[1]My_Query!A9 -> 924 | B4: =[1]My_Query!B9 -> Chips Ahoy Fibre Supply Ltd | C4: =[1]My_Query!C9 -> Mission | D4: =[1]My_Query!D9 -> Coast | E4: =[1]My_Query!E9 -> Chilliwack | F4: =[1]My_Query!F9 -> 129.6
A5: =[1]My_Query!A11 -> 345 | B5: =[1]My_Query!B11 -> DCT Chambers Trucking Ltd. | C5: =[1]My_Query!C11 -> Chemainus | D5: =[1]My_Query!D11 -> Coast | E5: =[1]My_Query!E11 -> South Island | F5: =[1]My_Query!F11 -> 187.2
A6: =[1]My_Query!A5 -> 356 | B6: =[1]My_Query!B5 -> East Fraser Fibre Co Ltd. | C6: =[1]My_Query!C5 -> Mackenzie | D6: =[1]My_Query!D5 -> Northern Interior | E6: =[1]My_Query!E5 -> Mackenzie | F6: =[1]My_Query!F5 -> 240
A7: =[1]My_Query!A8 -> 409 | B7: =[1]My_Query!B8 -> Howe Sound Pulp & Paper Ltd. | C7: =[1]My_Query!C8 -> Vancouver | D7: =[1]My_Query!D8 -> Coast | E7: =[1]My_Query!E8 -> Chilliwack | F7: =[1]My_Query!F8 -> 292.8
A8: =[1]My_Query!A4 -> 937 | B8: =[1]My_Query!B4 -> Pacific Fibre Ltd. | C8: =[1]My_Query!C4 -> Port Mellon | D8: =[1]My_Query!D4 -> Coast | E8: =[1]My_Query!E4 -> Sunshine Coast | F8: =[1]My_Query!F4 -> 148.8
A9: =[1]My_Query!A6 -> 952 | B9: =[1]My_Query!B6 -> River City Fibre | C9: =[1]My_Query!C6 -> Kamloops | D9: =[1]My_Query!D6 -> Southern Interior | E9: =[1]My_Query!E6 -> Kamloops | F9: =[1]My_Query!F6 -> 216
A10: =[1]My_Query!A3 -> 18 | B10: =[1]My_Query!B3 -> Terminal Forest Products Ltd | C10: =[1]My_Query!C3 -> Langdale Dryland Sort | D10: =[1]My_Query!D3 -> Coast | E10: =[1]My_Query!E3 -> Sunshine Coast | F10: =[1]My_Query!F3 -> 91.2
A11: =[1]My_Query!A7 -> 394 | B11: =[1]My_Query!B7 -> Tolko Industries Ltd. | C11: =[1]My_Query!C7 -> Heffley Creek | D11: =[1]My_Query!D7 -> Southern Interior | E11: =[1]My_Query!E7 -> Kamloops | F11: =[1]My_Query!F7 -> 76.8
A12: =[1]My_Query!A10 -> 68 | B12: =[1]My_Query!B10 -> Tolko Industries Ltd. | C12: =[1]My_Query!C10 -> Armstrong | D12: =[1]My_Query!D10 -> Southern Interior | E12: =[1]My_Query!E10 -> Okanagan Shuswap | F12: =[1]My_Query!F10 -> 96

Sheet LogHome
E1: ="LOG HOME MILLS - "&ConsistentHeaders!C1 -> LOG HOME MILLS - 2011
A2: =ConsistentHeaders!A2 -> Mill Number | B2: =ConsistentHeaders!B2 -> Company | C2: =ConsistentHeaders!C2 -> Location of Mill | D2: =ConsistentHeaders!D2 -> 2009 Forest Region | E2: =ConsistentHeaders!E2 -> 2009 Forest District
A3: =[2]My_Query!A11 -> 46 | B3: =[2]My_Query!B11 -> Hamill Creek Timber Homes (2010) Ltd. | C3: =[2]My_Query!C11 -> Meadow Creek | D3: =[2]My_Query!D11 -> Southern Interior | E3: =[2]My_Query!E11 -> Kootenay Lake
A4: =[2]My_Query!A13 -> 218 | B4: =[2]My_Query!B13 -> Maurer Construction Ltd. | C4: =[2]My_Query!C13 -> Penticton | D4: =[2]My_Query!D13 -> Southern Interior | E4: =[2]My_Query!E13 -> Okanagan Shuswap
A5: =[2]My_Query!A12 -> 216 | B5: =[2]My_Query!B12 -> Ideal Export Log Homes Ltd. | C5: =[2]My_Query!C12 -> Salmon Arm | D5: =[2]My_Query!D12 -> Southern Interior | E5: =[2]My_Query!E12 -> Okanagan Shuswap
A6: =[2]My_Query!A10 -> 212 | B6: =[2]My_Query!B10 -> Custom Log Homes Ltd. | C6: =[2]My_Query!C10 -> Salmon Arm | D6: =[2]My_Query!D10 -> Southern Interior | E6: =[2]My_Query!E10 -> Okanagan Shuswap
A7: =[2]My_Query!A8 -> 260 | B7: =[2]My_Query!B8 -> Canadian Walden Log Homes Ltd. | C7: =[2]My_Query!C8 -> Sardis | D7: =[2]My_Query!D8 -> Coast | E7: =[2]My_Query!E8 -> Chilliwack
A8: =[2]My_Query!A7 -> 694 | B8: =[2]My_Query!B7 -> Canada's Log People Ltd. | C8: =[2]My_Query!C7 -> 100 Mile House | D8: =[2]My_Query!D7 -> Southern Interior | E8: =[2]My_Query!E7 -> 100 Mile House
A9: =[2]My_Query!A9 -> 522 | B9: =[2]My_Query!B9 -> Chinook Log Homes Ltd. | C9: =[2]My_Query!C9 -> Bear Flats, Montney | D9: =[2]My_Query!D9 -> Northern Interior | E9: =[2]My_Query!E9 -> Peace
A10: =[2]My_Query!A3 -> 38 | B10: =[2]My_Query!B3 -> Big Foot Manufacturing Inc. | C10: =[2]My_Query!C3 -> Tappen | D10: =[2]My_Query!D3 -> Southern Interior | E10: =[2]My_Query!E3 -> Okanagan Shuswap
A11: =[2]My_Query!A16 -> 223 | B11: =[2]My_Query!B16 -> Radomske Log Homes Ltd | C11: =[2]My_Query!C16 -> Kelowna | D11: =[2]My_Query!D16 -> Southern Interior | E11: =[2]My_Query!E16 -> Okanagan Shuswap
A12: =[2]My_Query!A24 -> 267 | B12: =[2]My_Query!B24 -> White Valley Log Homes Ltd. | C12: =[2]My_Query!C24 -> Cherryville | D12: =[2]My_Query!D24 -> Southern Interior | E12: =[2]My_Query!E24 -> Okanagan Shuswap
A13: =[2]My_Query!A17 -> 954 | B13: =[2]My_Query!B17 -> Rocky Mountain Log Homes Canada Inc. | C13: =[2]My_Query!C17 -> LeJac | D13: =[2]My_Query!D17 -> Northern Interior | E13: =[2]My_Query!E17 -> Vanderhoof
A14: =[2]My_Query!A19 -> 693 | B14: =[2]My_Query!B19 -> Sitka Log Homes Inc. | C14: =[2]My_Query!C19 -> 100 Mile House | D14: =[2]My_Query!D19 -> Southern Interior | E14: =[2]My_Query!E19 -> 100 Mile House
A15: =[2]My_Query!A20 -> 58 | B15: =[2]My_Query!B20 -> Sperlich Log Construction Inc | C15: =[2]My_Query!C20 -> Enderby | D15: =[2]My_Query!D20 -> Southern Interior | E15: =[2]My_Query!E20 -> Okanagan Shuswap
A16: =[2]My_Query!A2 -> 190 | B16: =[2]My_Query!B2 -> Artisan Custom Log Construction Ltd. | C16: =[2]My_Query!C2 -> Maple Ridge | D16: =[2]My_Query!D2 -> Coast | E16: =[2]My_Query!E2 -> Chilliwack
A17: =[2]My_Query!A21 -> 423 | B17: =[2]My_Query!B21 -> Surelog Homes Ltd | C17: =[2]My_Query!C21 -> Tappen | D17: =[2]My_Query!D21 -> Southern Interior | E17: =[2]My_Query!E21 -> Okanagan Shuswap
A18: =[2]My_Query!A4 -> 39 | B18: =[2]My_Query!B4 -> Big Rock Homes Ltd. | C18: =[2]My_Query!C4 -> Clearbrook | D18: =[2]My_Query!D4 -> Coast | E18: =[2]My_Query!E4 -> Chilliwack
A19: =[2]My_Query!A5 -> 458 | B19: =[2]My_Query!B5 -> Brian Moore Log Homes | C19: =[2]My_Query!C5 -> Abbotsford | D19: =[2]My_Query!D5 -> Coast | E19: =[2]My_Query!E5 -> Chilliwack
A20: =[2]My_Query!A6 -> 697 | B20: =[2]My_Query!B6 -> Calija Log Homes Ltd. | C20: =[2]My_Query!C6 -> 93 Mile | D20: =[2]My_Query!D6 -> Southern Interior | E20: =[2]My_Query!E6 -> 100 Mile House
A21: =[2]My_Query!A22 -> 602 | B21: =[2]My_Query!B22 -> T.L.Timber Ltd. | C21: =[2]My_Query!C22 -> Cawston | D21: =[2]My_Query!D22 -> Southern Interior | E21: =[2]My_Query!E22 -> Okanagan Shuswap
A22: =[2]My_Query!A14 -> 225 | B22: =[2]My_Query!B14 -> Peco Log Homes | C22: =[2]My_Query!C14 -> Okanagan Falls | D22: =[2]My_Query!D14 -> Southern Interior | E22: =[2]My_Query!E14 -> Okanagan Shuswap
A23: =[2]My_Query!A15 -> 474 | B23: =[2]My_Query!B15 -> Pioneer Log Homes Ltd. | C23: =[2]My_Query!C15 -> Williams Lake | D23: =[2]My_Query!D15 -> Southern Interior | E23: =[2]My_Query!E15 -> Central Cariboo
A24: =[2]My_Query!A18 -> 57 | B24: =[2]My_Query!B18 -> Roundwood Log Homes Ltd | C24: =[2]My_Query!C18 -> Prince George | D24: =[2]My_Query!D18 -> Northern Interior | E24: =[2]My_Query!E18 -> Prince George
A25: =[2]My_Query!A23 -> 245 | B25: =[2]My_Query!B23 -> Traditional Log Homes Ltd. | C25: =[2]My_Query!C23 -> Salmon Arm | D25: =[2]My_Query!D23 -> Southern Interior | E25: =[2]My_Query!E23 -> Okanagan Shuswap

Sheet Lumber >40
F1: ="LUMBER MILLS WITH CAPACITY GREATER THAN 40 MILLION BOARD FEET OF LUMBER IN "&ConsistentHeaders!C1 -> LUMBER MILLS WITH CAPACITY GREATER THAN 40 MILLION BOARD FEET OF LUMBER IN 2011
A2: =ConsistentHeaders!A2 -> Mill Number | B2: =ConsistentHeaders!B2 -> Company | C2: =ConsistentHeaders!C2 -> Location of Mill | D2: =ConsistentHeaders!D2 -> 2009 Forest Region | E2: =ConsistentHeaders!E2 -> 2009 Forest District | F2: Estimated Annual Capacity
F3: (millions of board feet)
A4: =[3]My_Query!A2 -> 326 | B4: =[3]My_Query!B2 -> Delta Cedar Products Ltd. | C4: =[3]My_Query!C2 -> Delta | D4: =[3]My_Query!D2 -> Coast | E4: =[3]My_Query!E2 -> Chilliwack | F4: =[3]My_Query!F2 -> 48.96
A5: =[3]My_Query!A3 -> 537 | B5: =[3]My_Query!B3 -> Goldwood Industries Ltd | C5: =[3]My_Query!C3 -> Richmond | D5: =[3]My_Query!D3 -> Coast | E5: =[3]My_Query!E3 -> Chilliwack | F5: =[3]My_Query!F3 -> 57.6
A6: =[3]My_Query!A4 -> 297 | B6: =[3]My_Query!B4 -> International Forest Products Ltd. | C6: =[3]My_Query!C4 -> Hammond | D6: =[3]My_Query!D4 -> Coast | E6: =[3]My_Query!E4 -> Chilliwack | F6: =[3]My_Query!F4 -> 165.6
A7: =[3]My_Query!A5 -> 283 | B7: =[3]My_Query!B5 -> International Forest Products Ltd. | C7: =[3]My_Query!C5 -> Delta | D7: =[3]My_Query!D5 -> Coast | E7: =[3]My_Query!E5 -> Chilliwack | F7: =[3]My_Query!F5 -> 144
A8: =[3]My_Query!A6 -> 100 | B8: =[3]My_Query!B6 -> J.S. Jones | C8: =[3]My_Query!C6 -> Surrey | D8: =[3]My_Query!D6 -> Coast | E8: =[3]My_Query!E6 -> Chilliwack | F8: =[3]My_Query!F6 -> 192
A9: =[3]My_Query!A7 -> 712 | B9: =[3]My_Query!B7 -> Long Hoh Enterprises Canada Ltd. | C9: =[3]My_Query!C7 -> Qualicum Beach | D9: =[3]My_Query!D7 -> Coast | E9: =[3]My_Query!E7 -> South Island | F9: =[3]My_Query!F7 -> 43.2
A10: =[3]My_Query!A8 -> 396 | B10: =[3]My_Query!B8 -> Mainland Sawmills | C10: =[3]My_Query!C8 -> Vancouver | D10: =[3]My_Query!D8 -> Coast | E10: =[3]My_Query!E8 -> Chilliwack | F10: =[3]My_Query!F8 -> 48
A11: =[3]My_Query!A9 -> 403 | B11: =[3]My_Query!B9 -> Mill & Timber Products Ltd. | C11: =[3]My_Query!C9 -> Surrey | D11: =[3]My_Query!D9 -> Coast | E11: =[3]My_Query!E9 -> Chilliwack | F11: =[3]My_Query!F9 -> 57.6
A12: =[3]My_Query!A10 -> 336 | B12: =[3]My_Query!B10 -> Mill & Timber Products Ltd. | C12: =[3]My_Query!C10 -> Port Moody | D12: =[3]My_Query!D10 -> Coast | E12: =[3]My_Query!E10 -> Chilliwack | F12: =[3]My_Query!F10 -> 129.6
A13: =[3]My_Query!A11 -> 22 | B13: =[3]My_Query!B11 -> Noble Custom Cut Ltd. | C13: =[3]My_Query!C11 -> Whonnock | D13: =[3]My_Query!D11 -> Coast | E13: =[3]My_Query!E11 -> Chilliwack | F13: =[3]My_Query!F11 -> 48
A14: =[3]My_Query!A12 -> 454 | B14: =[3]My_Query!B12 -> S&R Sawmills Ltd | C14: =[3]My_Query!C12 -> Surrey | D14: =[3]My_Query!D12 -> Coast | E14: =[3]My_Query!E12 -> Chilliwack | F14: =[3]My_Query!F12 -> 240
A15: =[3]My_Query!A13 -> 539 | B15: =[3]My_Query!B13 -> Stag Timber Ltd. | C15: =[3]My_Query!C13 -> Surrey | D15: =[3]My_Query!D13 -> Coast | E15: =[3]My_Query!E13 -> Chilliwack | F15: =[3]My_Query!F13 -> 86.4
... A43: =[3]My_Query!A41 -> 149 | B43: =[3]My_Query!B41 -> Lakeland Mills Ltd | C43: =[3]My_Query!C41 -> Prince George | D43: =[3]My_Query!D41 -> Northern Interior | E43: =[3]My_Query!E41 -> Prince George | F43: =[3]My_Query!F41 -> 148.8
F44: ="LUMBER MILLS WITH CAPACITY GREATER THAN 40 MILLION BOARD FEET OF LUMBER IN "&ConsistentHeaders!C43 -> LUMBER MILLS WITH CAPACITY GREATER THAN 40 MILLION BOARD FEET OF LUMBER IN
A45: =ConsistentHeaders!A2 -> Mill Number | B45: =ConsistentHeaders!B2 -> Company | C45: =ConsistentHeaders!C2 -> Location of Mill | D45: =ConsistentHeaders!D2 -> 2009 Forest Region | E45: =ConsistentHeaders!E2 -> 2009 Forest District | F45: Estimated Annual Capacity
F46: (millions of board feet)
A47: =[3]My_Query!A42 -> 191 | B47: =[3]My_Query!B42 -> Pacific Inland Resources | C47: =[3]My_Query!C42 -> Smithers | D47: =[3]My_Query!D42 -> Northern Interior | E47: =[3]My_Query!E42 -> Skeena Stikine | F47: =[3]My_Query!F42 -> 265.44
A48: =[3]My_Query!A43 -> 552 | B48: =[3]My_Query!B43 -> West Fraser Mills Ltd. | C48: =[3]My_Query!C43 -> Chetwynd | D48: =[3]My_Query!D43 -> Northern Interior | E48: =[3]My_Query!E43 -> Peace | F48: =[3]My_Query!F43 -> 268.8
A49: =[3]My_Query!A44 -> 532 | B49: =[3]My_Query!B44 -> West Fraser Mills Ltd. | C49: =[3]My_Query!C44 -> LeJac | D49: =[3]My_Query!D44 -> Northern Interior | E49: =[3]My_Query!E44 -> Vanderhoof | F49: =[3]My_Query!F44 -> 271.68
A50: =[3]My_Query!A45 -> 207 | B50: =[3]My_Query!B45 -> Ardew Wood Products Ltd | C50: =[3]My_Query!C45 -> Merritt | D50: =[3]My_Query!D45 -> Southern Interior | E50: =[3]My_Query!E45 -> Cascades | F50: =[3]My_Query!F45 -> 58.57
A51: =[3]My_Query!A46 -> 498 | B51: =[3]My_Query!B46 -> Aspen Planers Ltd. | C51: =[3]My_Query!C46 -> Merritt | D51: =[3]My_Query!D46 -> Southern Interior | E51: =[3]My_Query!E46 -> Cascades | F51: =[3]My_Query!F46 -> 192
A52: =[3]My_Query!A47 -> 64 | B52: =[3]My_Query!B47 -> Canadian Forest Products Ltd. | C52: =[3]My_Query!C47 -> Vavenby | D52: =[3]My_Query!D47 -> Southern Interior | E52: =[3]My_Query!E47 -> Headwaters | F52: =[3]My_Query!F47 -> 163.97
A53: =[3]My_Query!A48 -> 110 | B53: =[3]My_Query!B48 -> Canadian Forests Products Ltd. | C53: =[3]My_Query!C48 -> Quesnel | D53: =[3]My_Query!D48 -> Southern Interior | E53: =[3]My_Query!E48 -> Quesnel | F53: =[3]My_Query!F48 -> 218.88
A54: =[3]My_Query!A49 -> 45 | B54: =[3]My_Query!B49 -> Downie Timber Limited | C54: =[3]My_Query!C49 -> Revelstoke | D54: =[3]My_Query!D49 -> Southern Interior | E54: =[3]My_Query!E49 -> Columbia | F54: =[3]My_Query!F49 -> 105.6
A55: =[3]My_Query!A50 -> 86 | B55: =[3]My_Query!B50 -> Galloway Lumber Co. Ltd. | C55: =[3]My_Query!C50 -> Galloway | D55: =[3]My_Query!D50 -> Southern Interior | E55: =[3]My_Query!E50 -> Rocky Mountain | F55: =[3]My_Query!F50 -> 70.08
A56: =[3]My_Query!A51 -> 66 | B56: =[3]My_Query!B51 -> Gilbert Smith Forest Products Ltd. | C56: =[3]My_Query!C51 -> Barriere | D56: =[3]My_Query!D51 -> Southern Interior | E56: =[3]My_Query!E51 -> Kamloops | F56: =[3]My_Query!F51 -> 41.76
A57: =[3]My_Query!A52 -> 14 | B57: =[3]My_Query!B52 -> Gorman Bros Lumber Ltd. | C57: =[3]My_Query!C52 -> Westbank | D57: =[3]My_Query!D52 -> Southern Interior | E57: =[3]My_Query!E52 -> Okanagan Shuswap | F57: =[3]My_Query!F52 -> 124.8
A58: =[3]My_Query!A53 -> 62 | B58: =[3]My_Query!B53 -> International Forest Products Ltd. | C58: =[3]My_Query!C53 -> Castlegar | D58: =[3]My_Query!D53 -> Southern Interior | E58: =[3]My_Query!E53 -> Arrow Boundary | F58: =[3]My_Query!F53 -> 240
... A83: =[3]My_Query!A78 -> 29 | B83: =[3]My_Query!B78 -> Weyerhaeuser Company Ltd. | C83: =[3]My_Query!C78 -> Princeton | D83: =[3]My_Query!D78 -> Southern Interior | E83: =[3]My_Query!E78 -> Cascades | F83: =[3]My_Query!F78 -> 171.36

Sheet Lumber <40
F1: ="LUMBER MILLS WITH CAPACITY LESS THAN 40 MILLION BOARD FEET OF LUMBER IN "&ConsistentHeaders!C1 -> LUMBER MILLS WITH CAPACITY LESS THAN 40 MILLION BOARD FEET OF LUMBER IN 2011
A2: =ConsistentHeaders!A2 -> Mill Number | B2: =ConsistentHeaders!B2 -> Company | C2: =ConsistentHeaders!C2 -> Location of Mill | D2: =ConsistentHeaders!D2 -> 2009 Forest Region | E2: =ConsistentHeaders!E2 -> 2009 Forest District | F2: Estimated Annual Capacity
F3: (millions of board feet)
A4: =[4]My_Query!A2 -> 9 | B4: =[4]My_Query!B2 -> A J Forest Products ltd. | C4: =[4]My_Query!C2 -> Brackendale | D4: =[4]My_Query!D2 -> Coast | E4: =[4]My_Query!E2 -> Squamish | F4: =[4]My_Query!F2 -> 19.2
A5: =[4]My_Query!A3 -> 5 | B5: =[4]My_Query!B3 -> Abfam Enterprises Ltd. | C5: =[4]My_Query!C3 -> Port Clements | D5: =[4]My_Query!D3 -> Coast | E5: =[4]My_Query!E3 -> Haida Gwaii | F5: =[4]My_Query!F3 -> 16.8
A6: =[4]My_Query!A4 -> 8 | B6: =[4]My_Query!B4 -> Andersen Pacific Forest Products Ltd | C6: =[4]My_Query!C4 -> Ruskin | D6: =[4]My_Query!D4 -> Coast | E6: =[4]My_Query!E4 -> Chilliwack | F6: =[4]My_Query!F4 -> 30.72
A7: =[4]My_Query!A5 -> 905 | B7: =[4]My_Query!B5 -> Blacktail Enterprises | C7: =[4]My_Query!C5 -> Black Creek | D7: =[4]My_Query!D5 -> Coast | E7: =[4]My_Query!E5 -> Campbell River | F7: =[4]My_Query!F5 -> 0.96
A8: =[4]My_Query!A6 -> 986 | B8: =[4]My_Query!B6 -> Brasier Mill | C8: =[4]My_Query!C6 -> Masset | D8: =[4]My_Query!D6 -> Coast | E8: =[4]My_Query!E6 -> Haida Gwaii | F8: =[4]My_Query!F6 -> 0.48
A9: =[4]My_Query!A7 -> 117 | B9: =[4]My_Query!B7 -> Continental Pole Ltd. | C9: =[4]My_Query!C7 -> Pemberton | D9: =[4]My_Query!D7 -> Coast | E9: =[4]My_Query!E7 -> Squamish | F9: =[4]My_Query!F7 -> 1.92
A10: =[4]My_Query!A8 -> 377 | B10: =[4]My_Query!B8 -> Coulson Manufacturing Ltd. | C10: =[4]My_Query!C8 -> Port Alberni | D10: =[4]My_Query!D8 -> Coast | E10: =[4]My_Query!E8 -> South Island | F10: =[4]My_Query!F8 -> 27.84
A11: =[4]My_Query!A9 -> 741 | B11: =[4]My_Query!B9 -> Dove Creek Timber Corp | C11: =[4]My_Query!C9 -> Courtenay | D11: =[4]My_Query!D9 -> Coast | E11: =[4]My_Query!E9 -> Campbell River | F11: =[4]My_Query!F9 -> 9.6
A12: =[4]My_Query!A10 -> 26 | B12: =[4]My_Query!B10 -> Edge Grain Cedar Ltd. | C12: =[4]My_Query!C10 -> Maple Ridge | D12: =[4]My_Query!D10 -> Coast | E12: =[4]My_Query!E10 -> Chilliwack | F12: =[4]My_Query!F10 -> 0.05
A13: =[4]My_Query!A11 -> 717 | B13: =[4]My_Query!B11 -> Edge Grain Forest Products Ltd. | C13: =[4]My_Query!C11 -> Woss | D13: =[4]My_Query!D11 -> Coast | E13: =[4]My_Query!E11 -> North Island - Central Coast | F13: =[4]My_Query!F11 -> 0.86
A14: =[4]My_Query!A12 -> 301 | B14: =[4]My_Query!B12 -> Errington Cedar Products Ltd. | C14: =[4]My_Query!C12 -> Errington | D14: =[4]My_Query!D12 -> Coast | E14: =[4]My_Query!E12 -> South Island | F14: =[4]My_Query!F12 -> 16.66
A15: =[4]My_Query!A13 -> 714 | B15: =[4]My_Query!B13 -> Franklin Forest Products Ltd. | C15: =[4]My_Query!C13 -> Port Alberni | D15: =[4]My_Query!D13 -> Coast | E15: =[4]My_Query!E13 -> South Island | F15: =[4]My_Query!F13 -> 19.2
... A40: =[4]My_Query!A38 -> 983 | B40: =[4]My_Query!B38 -> Colborne Lumber | C40: =[4]My_Query!C38 -> Clearwater | D40: =[4]My_Query!D38 -> Southern Interior | E40: =[4]My_Query!E38 -> Headwaters | F40: =[4]My_Query!F38 -> 0.81
F41: ="LUMBER MILLS WITH CAPACITY LESS THAN 40 MILLION BOARD FEET OF LUMBER IN "&ConsistentHeaders!C41 -> LUMBER MILLS WITH CAPACITY LESS THAN 40 MILLION BOARD FEET OF LUMBER IN
A42: =ConsistentHeaders!A2 -> Mill Number | B42: =ConsistentHeaders!B2 -> Company | C42: =ConsistentHeaders!C2 -> Location of Mill | D42: =ConsistentHeaders!D2 -> 2009 Forest Region | E42: =ConsistentHeaders!E2 -> 2009 Forest District | F42: Estimated Annual Capacity
F43: (millions of board feet)
A44: =[4]My_Query!A39 -> 32 | B44: =[4]My_Query!B39 -> Gibbs Custom Sawmill Ltd. | C44: =[4]My_Query!C39 -> McBride | D44: =[4]My_Query!D39 -> Southern Interior | E44: =[4]My_Query!E39 -> Headwaters | F44: =[4]My_Query!F39 -> 1.2
A45: =[4]My_Query!A40 -> 957 | B45: =[4]My_Query!B40 -> Gold Island Forest Products Ltd. | C45: =[4]My_Query!C40 -> Slocan | D45: =[4]My_Query!D40 -> Southern Interior | E45: =[4]My_Query!E40 -> Arrow Boundary | F45: =[4]My_Query!F40 -> 16.8
A46: =[4]My_Query!A41 -> 975 | B46: =[4]My_Query!B41 -> Harold Turner | C46: =[4]My_Query!C41 -> Pritchard | D46: =[4]My_Query!D41 -> Southern Interior | E46: =[4]My_Query!E41 -> Kamloops | F46: =[4]My_Query!F41 -> 0.82
A47: =[4]My_Query!A42 -> 172 | B47: =[4]My_Query!B42 -> Hauer Bros. Lumber Ltd. | C47: =[4]My_Query!C42 -> Tete Jaune Cache | D47: =[4]My_Query!D42 -> Southern Interior | E47: =[4]My_Query!E42 -> Headwaters | F47: =[4]My_Query!F42 -> 16.8
A48: =[4]My_Query!A43 -> 47 | B48: =[4]My_Query!B43 -> Joe Kozek Sawmills Ltd. | C48: =[4]My_Query!C43 -> Revelstoke | D48: =[4]My_Query!D43 -> Southern Interior | E48: =[4]My_Query!E43 -> Columbia | F48: =[4]My_Query!F43 -> 14.4
A49: =[4]My_Query!A44 -> 597 | B49: =[4]My_Query!B44 -> Lakeside Timber Ltd. | C49: =[4]My_Query!C44 -> Tappen | D49: =[4]My_Query!D44 -> Southern Interior | E49: =[4]My_Query!E44 -> Okanagan Shuswap | F49: =[4]My_Query!F44 -> 16.8
A50: =[4]My_Query!A45 -> 998 | B50: =[4]My_Query!B45 -> Les Savarella Contracting | C50: =[4]My_Query!C45 -> McBride | D50: =[4]My_Query!D45 -> Southern Interior | E50: =[4]My_Query!E45 -> Headwaters | F50: =[4]My_Query!F45 -> 0.09
A51: =[4]My_Query!A46 -> 197 | B51: =[4]My_Query!B46 -> McDonald Ranch & Lumber Ltd | C51: =[4]My_Query!C46 -> Grasmere | D51: =[4]My_Query!D46 -> Southern Interior | E51: =[4]My_Query!E46 -> Rocky Mountain | F51: =[4]My_Query!F46 -> 2.88
A52: =[4]My_Query!A47 -> 974 | B52: =[4]My_Query!B47 -> Murray Kane Site 6LW | C52: =[4]My_Query!C47 -> Clinton | D52: =[4]My_Query!D47 -> Southern Interior | E52: =[4]My_Query!E47 -> 100 Mile House | F52: =[4]My_Query!F47 -> 0.48
A53: =[4]My_Query!A48 -> 199 | B53: =[4]My_Query!B48 -> North Star Planing Co. Ltd. | C53: =[4]My_Query!C48 -> Athalmer | D53: =[4]My_Query!D48 -> Southern Interior | E53: =[4]My_Query!E48 -> Rocky Mountain | F53: =[4]My_Query!F48 -> 3.84
A54: =[4]My_Query!A49 -> 988 | B54: =[4]My_Query!B49 -> Northstar Log & Timberframe | C54: =[4]My_Query!C49 -> Winfield | D54: =[4]My_Query!D49 -> Southern Interior | E54: =[4]My_Query!E49 -> Okanagan Shuswap | F54: =[4]My_Query!F49 -> 0.96
A55: =[4]My_Query!A50 -> 977 | B55: =[4]My_Query!B50 -> Pioneer Timber Group | C55: =[4]My_Query!C50 -> Williams Lake | D55: =[4]My_Query!D50 -> Southern Interior | E55: =[4]My_Query!E50 -> Central Cariboo | F55: =[4]My_Query!F50 -> 38.6
... A61: =[4]My_Query!A56 -> 93 | B61: =[4]My_Query!B56 -> Wynndel Box & Lumber Co. Ltd. | C61: =[4]My_Query!C56 -> Wynndel | D61: =[4]My_Query!D56 -> Southern Interior | E61: =[4]My_Query!E56 -> Kootenay Lake | F61: =[4]My_Query!F56 -> 39.96

Sheet Pellet
F1: ="PELLET MILLS - "&ConsistentHeaders!C1 -> PELLET MILLS - 2011
A2: =ConsistentHeaders!A2 -> Mill Number | B2: =ConsistentHeaders!B2 -> Company | C2: =ConsistentHeaders!C2 -> Location of Mill | D2: =ConsistentHeaders!D2 -> 2009 Forest Region | E2: =ConsistentHeaders!E2 -> 2009 Forest District | F2: Estimated Annual Capacity
F3: ('000s of tonnes)
A4: =[5]My_Query!A2 -> 947 | B4: =[5]My_Query!B2 -> Houston Pellet Limited Partnership | C4: =[5]My_Query!C2 -> Houston | D4: =[5]My_Query!D2 -> Northern Interior | E4: =[5]My_Query!E2 -> Nadina | F4: =[5]My_Query!F2 -> 224.6
A5: =[5]My_Query!A3 -> 935 | B5: =[5]My_Query!B3 -> Okanagan Pellet Company | C5: =[5]My_Query!C3 -> Westbank | D5: =[5]My_Query!D3 -> Southern Interior | E5: =[5]My_Query!E3 -> Okanagan Shuswap | F5: =[5]My_Query!F3 -> 66.24
A6: =[5]My_Query!A4 -> 930 | B6: =[5]My_Query!B4 -> Pacific Bioenergy | C6: =[5]My_Query!C4 -> Prince George | D6: =[5]My_Query!D4 -> Northern Interior | E6: =[5]My_Query!E4 -> Prince George | F6: =[5]My_Query!F4 -> 344.66
A7: =[5]My_Query!A5 -> 929 | B7: =[5]My_Query!B5 -> Pinnacle Renewable Energy Inc. | C7: =[5]My_Query!C5 -> Armstrong | D7: =[5]My_Query!D5 -> Southern Interior | E7: =[5]My_Query!E5 -> Okanagan Shuswap | F7: =[5]My_Query!F5 -> 69.34
A8: =[5]My_Query!A6 -> 980 | B8: =[5]My_Query!B6 -> Pinnacle Renewable Energy Inc. | C8: =[5]My_Query!C6 -> Burns Lake | D8: =[5]My_Query!D6 -> Northern Interior | E8: =[5]My_Query!E6 -> Nadina | F8: =[5]My_Query!F6 -> 414
A9: =[5]My_Query!A7 -> 976 | B9: =[5]My_Query!B7 -> Pinnacle Renewable Energy Inc. | C9: =[5]My_Query!C7 -> Strathnaver | D9: =[5]My_Query!D7 -> Northern Interior | E9: =[5]My_Query!E7 -> Prince George | F9: =[5]My_Query!F7 -> 224.6
A10: =[5]My_Query!A8 -> 931 | B10: =[5]My_Query!B8 -> Pinnacle Renewable Energy Inc. | C10: =[5]My_Query!C8 -> Quesnel | D10: =[5]My_Query!D8 -> Southern Interior | E10: =[5]My_Query!E8 -> Quesnel | F10: =[5]My_Query!F8 -> 103.5
A11: =[5]My_Query!A9 -> 948 | B11: =[5]My_Query!B9 -> Pinnacle Renewable Energy Inc. | C11: =[5]My_Query!C9 -> Williams Lake | D11: =[5]My_Query!D9 -> Southern Interior | E11: =[5]My_Query!E9 -> Central Cariboo | F11: =[5]My_Query!F9 -> 207
A12: =[5]My_Query!A10 -> 932 | B12: =[5]My_Query!B10 -> Premium Pellet Ltd. | C12: =[5]My_Query!C10 -> Vanderhoof | D12: =[5]My_Query!D10 -> Northern Interior | E12: =[5]My_Query!E10 -> Vanderhoof | F12: =[5]My_Query!F10 -> 168.7
A13: =[5]My_Query!A11 -> 933 | B13: =[5]My_Query!B11 -> Princeton Co-Generation Corp. | C13: =[5]My_Query!C11 -> Princeton | D13: =[5]My_Query!D11 -> Southern Interior | E13: =[5]My_Query!E11 -> Cascades | F13: =[5]My_Query!F11 -> 107.26
A14: =[5]My_Query!A12 -> 995 | B14: =[5]My_Query!B12 -> Vanderhoof Specialty Wood Products | C14: =[5]My_Query!C12 -> Vanderhoof | D14: =[5]My_Query!D12 -> Northern Interior | E14: =[5]My_Query!E12 -> Vanderhoof | F14: =[5]My_Query!F12 -> 62.1

Sheet PolePost&UTI
G1: ="TYPES OF POLE MILLS - "&ConsistentHeaders!C1 -> TYPES OF POLE MILLS - 2011
A2: =ConsistentHeaders!A2 -> Mill Number | B2: =ConsistentHeaders!B2 -> Company | C2: =ConsistentHeaders!C2 -> Location of Mill | D2: Product | E2: =ConsistentHeaders!D2 -> 2009 Forest Region | F2: =ConsistentHeaders!E2 -> 2009 Forest District | G2: Estimated Annual Capacity
G3: ('000s of pieces)
A4: =[6]My_Query!A2 -> 498 | B4: =[6]My_Query!B2 -> Aspen Planers Ltd. | C4: =[6]My_Query!C2 -> Merritt | D4: =[6]My_Query!D2 -> PLE | E4: =[6]My_Query!E2 -> Southern Interior | F4: =[6]My_Query!F2 -> Cascades | G4: =[6]My_Query!G2 -> 960
A5: =[6]My_Query!A3 -> 724 | B5: =[6]My_Query!B3 -> Integrated Pole | C5: =[6]My_Query!C3 -> 100 Mile House | D5: =[6]My_Query!D3 -> PLE | E5: =[6]My_Query!E3 -> Southern Interior | F5: =[6]My_Query!F3 -> 100 Mile House | G5: =[6]My_Query!G3 -> 10.8
A6: =[6]My_Query!A4 -> 279 | B6: =[6]My_Query!B4 -> J. R. Blackmore & Sons Ltd. | C6: =[6]My_Query!C4 -> Lumberton | D6: =[6]My_Query!D4 -> PLE | E6: =[6]My_Query!E4 -> Southern Interior | F6: =[6]My_Query!F4 -> Rocky Mountain | G6: =[6]My_Query!G4 -> 180
A7: =[6]My_Query!A5 -> 250 | B7: =[6]My_Query!B5 -> Nicola Post and Rail Ltd. | C7: =[6]My_Query!C5 -> Merritt | D7: =[6]My_Query!D5 -> PLE | E7: =[6]My_Query!E5 -> Southern Interior | F7: =[6]My_Query!F5 -> Cascades | G7: =[6]My_Query!G5 -> 120
A8: =[6]My_Query!A6 -> 725 | B8: =[6]My_Query!B6 -> O'Brien & Fuerst Logging Ltd | C8: =[6]My_Query!C6 -> Port Clements | D8: =[6]My_Query!D6 -> PLE | E8: =[6]My_Query!E6 -> Coast | F8: =[6]My_Query!F6 -> Haida Gwaii | G8: =[6]My_Query!G6 -> 12
A9: =[6]My_Query!A7 -> 677 | B9: =[6]My_Query!B7 -> Pacific Inland Pole & Piling Ltd. | C9: =[6]My_Query!C7 -> Nakusp | D9: =[6]My_Query!D7 -> PLE | E9: =[6]My_Query!E7 -> Southern Interior | F9: =[6]My_Query!F7 -> Arrow Boundary | G9: =[6]My_Query!G7 -> 12
A10: =[6]My_Query!A8 -> 237 | B10: =[6]My_Query!B8 -> Princeton Post and Rail Co. Ltd. | C10: =[6]My_Query!C8 -> Princeton | D10: =[6]My_Query!D8 -> PLE | E10: =[6]My_Query!E8 -> Southern Interior | F10: =[6]My_Query!F8 -> Cascades | G10: =[6]My_Query!G8 -> 144
A11: =[6]My_Query!A9 -> 498 | B11: =[6]My_Query!B9 -> Aspen Planers Ltd. | C11: =[6]My_Query!C9 -> Merritt | D11: =[6]My_Query!D9 -> PST | E11: =[6]My_Query!E9 -> Southern Interior | F11: =[6]My_Query!F9 -> Cascades | G11: =[6]My_Query!G9 -> 480
A12: =[6]My_Query!A10 -> 390 | B12: =[6]My_Query!B10 -> Box Lake Lumber Products Ltd. | C12: =[6]My_Query!C10 -> Nakusp | D12: =[6]My_Query!D10 -> PST | E12: =[6]My_Query!E10 -> Southern Interior | F12: =[6]My_Query!F10 -> Arrow Boundary | G12: =[6]My_Query!G10 -> 504
A13: =[6]My_Query!A11 -> 997 | B13: =[6]My_Query!B11 -> Cedar 3 Products (R3 91 Enterprises Ltd ) | C13: =[6]My_Query!C11 -> McBride | D13: =[6]My_Query!D11 -> PST | E13: =[6]My_Query!E11 -> Southern Interior | F13: =[6]My_Query!F11 -> Headwaters | G13: =[6]My_Query!G11 -> 288
A14: =[6]My_Query!A12 -> 117 | B14: =[6]My_Query!B12 -> Continental Pole Ltd. | C14: =[6]My_Query!C12 -> Pemberton | D14: =[6]My_Query!D12 -> PST | E14: =[6]My_Query!E12 -> Coast | F14: =[6]My_Query!F12 -> Squamish | G14: =[6]My_Query!G12 -> 0
A15: =[6]My_Query!A13 -> 279 | B15: =[6]My_Query!B13 -> J. R. Blackmore & Sons Ltd. | C15: =[6]My_Query!C13 -> Lumberton | D15: =[6]My_Query!D13 -> PST | E15: =[6]My_Query!E13 -> Southern Interior | F15: =[6]My_Query!F13 -> Rocky Mountain | G15: =[6]My_Query!G13 -> 960
... A38: =[6]My_Query!A36 -> 637 | B38: =[6]My_Query!B36 -> Stella-Jones Inc. | C38: =[6]My_Query!C36 -> Prince George | D38: =[6]My_Query!D36 -> UTI | E38: =[6]My_Query!E36 -> Northern Interior | F38: =[6]My_Query!F36 -> Prince George | G38: =[6]My_Query!G36 -> 16.8

Sheet Pulp&Paper
G1: ="PULP AND PAPER MILLS - "&ConsistentHeaders!C1 -> PULP AND PAPER MILLS - 2011
A2: =ConsistentHeaders!A2 -> Mill Number | B2: =ConsistentHeaders!B2 -> Company | C2: =ConsistentHeaders!C2 -> Location of Mill | D2: Product | E2: =ConsistentHeaders!D2 -> 2009 Forest Region | F2: =ConsistentHeaders!E2 -> 2009 Forest District | G2: Estimated Annual Capacity
G3: (000s of tonnes)
A4: =[7]My_Query!A2 -> 960 | B4: =[7]My_Query!B2 -> Canadian Forest Products Ltd. | C4: =[7]My_Query!C2 -> Prince George | D4: =[7]My_Query!D2 -> PLP | E4: =[7]My_Query!E2 -> Northern Interior | F4: =[7]My_Query!F2 -> Prince George | G4: =[7]My_Query!G2 -> 312.57
A5: =[7]My_Query!A3 -> 500 | B5: =[7]My_Query!B3 -> Canadian Forest Products Ltd. | C5: =[7]My_Query!C3 -> Prince George | D5: =[7]My_Query!D3 -> PLP | E5: =[7]My_Query!E3 -> Northern Interior | F5: =[7]My_Query!F3 -> Prince George | G5: =[7]My_Query!G3 -> 139.72
A6: =[7]My_Query!A4 -> 335 | B6: =[7]My_Query!B4 -> Canadian Forest Products Ltd. | C6: =[7]My_Query!C4 -> Taylor | D6: =[7]My_Query!D4 -> PLP | E6: =[7]My_Query!E4 -> Northern Interior | F6: =[7]My_Query!F4 -> Peace | G6: =[7]My_Query!G4 -> 210.45
A7: =[7]My_Query!A5 -> 503 | B7: =[7]My_Query!B5 -> Canadian Forest Products Ltd. | C7: =[7]My_Query!C5 -> Prince George | D7: =[7]My_Query!D5 -> PLP | E7: =[7]My_Query!E5 -> Northern Interior | F7: =[7]My_Query!F5 -> Prince George | G7: =[7]My_Query!G5 -> 567.52
A8: =[7]My_Query!A6 -> 497 | B8: =[7]My_Query!B6 -> Cariboo Pulp & Paper Company | C8: =[7]My_Query!C6 -> Quesnel | D8: =[7]My_Query!D6 -> PLP | E8: =[7]My_Query!E6 -> Southern Interior | F8: =[7]My_Query!F6 -> Quesnel | G8: =[7]My_Query!G6 -> 331.2
A9: =[7]My_Query!A7 -> 487 | B9: =[7]My_Query!B7 -> Catalyst Paper | C9: =[7]My_Query!C7 -> Port Alberni | D9: =[7]My_Query!D7 -> PLP | E9: =[7]My_Query!E7 -> Coast | F9: =[7]My_Query!F7 -> South Island | G9: =[7]My_Query!G7 -> 185.96
A10: =[7]My_Query!A8 -> 486 | B10: =[7]My_Query!B8 -> Catalyst Paper Corp. | C10: =[7]My_Query!C8 -> Powell River | D10: =[7]My_Query!D8 -> PLP | E10: =[7]My_Query!E8 -> Coast | F10: =[7]My_Query!F8 -> Sunshine Coast | G10: =[7]My_Query!G8 -> 354.32
A11: =[7]My_Query!A9 -> 483 | B11: =[7]My_Query!B9 -> Catalyst Paper Corp. | C11: =[7]My_Query!C9 -> Crofton | D11: =[7]My_Query!D9 -> PLP | E11: =[7]My_Query!E9 -> Coast | F11: =[7]My_Query!F9 -> South Island | G11: =[7]My_Query!G9 -> 373.29
A12: =[7]My_Query!A10 -> 2 | B12: =[7]My_Query!B10 -> Domtar | C12: =[7]My_Query!C10 -> Kamloops | D12: =[7]My_Query!D10 -> PLP | E12: =[7]My_Query!E10 -> Southern Interior | F12: =[7]My_Query!F10 -> Kamloops | G12: =[7]My_Query!G10 -> 460.23
A13: =[7]My_Query!A11 -> 484 | B13: =[7]My_Query!B11 -> Howe Sound Pulp & Paper Corporation | C13: =[7]My_Query!C11 -> Port Mellon | D13: =[7]My_Query!D11 -> PLP | E13: =[7]My_Query!E11 -> Coast | F13: =[7]My_Query!F11 -> Sunshine Coast | G13: =[7]My_Query!G11 -> 724.5
A14: =[7]My_Query!A12 -> 491 | B14: =[7]My_Query!B12 -> Kruger Products L.P. | C14: =[7]My_Query!C12 -> New Westminster | D14: =[7]My_Query!D12 -> PLP | E14: =[7]My_Query!E12 -> Coast | F14: =[7]My_Query!F12 -> Chilliwack | G14: =[7]My_Query!G12 -> 31.05
A15: =[7]My_Query!A13 -> 505 | B15: =[7]My_Query!B13 -> Mackenzie Pulp Mill Corporation | C15: =[7]My_Query!C13 -> Mackenzie | D15: =[7]My_Query!D13 -> PLP | E15: =[7]My_Query!E13 -> Northern Interior | F15: =[7]My_Query!F13 -> Mackenzie | G15: =[7]My_Query!G13 -> 224.25
... A27: =[7]My_Query!A25 -> 491 | B27: =[7]My_Query!B25 -> Kruger Products L.P. | C27: =[7]My_Query!C25 -> New Westminster | D27: =[7]My_Query!D25 -> PPR | E27: =[7]My_Query!E25 -> Coast | F27: =[7]My_Query!F25 -> Chilliwack | G27: =[7]My_Query!G25 -> 94.88

Sheet Shake&Shingle
F1: ="SHAKE AND SHINGLE MILLS - "&ConsistentHeaders!C1 -> SHAKE AND SHINGLE MILLS - 2011
A2: =ConsistentHeaders!A2 -> Mill Number | B2: =ConsistentHeaders!B2 -> Company | C2: =ConsistentHeaders!C2 -> Location of Mill | D2: =ConsistentHeaders!D2 -> 2009 Forest Region | E2: =ConsistentHeaders!E2 -> 2009 Forest District | F2: Estimated Annual Capacity
F3: ('000s of squares)

Sheet Veneer_Plywood_OSB_OtherPanel
G1: ="VENEER, PLYWOOD, OSB AND OTHER PANEL MILLS - "&ConsistentHeaders!C1 -> VENEER, PLYWOOD, OSB AND OTHER PANEL MILLS - 2011
A2: =ConsistentHeaders!A2 -> Mill Number | B2: =ConsistentHeaders!B2 -> Company | C2: =ConsistentHeaders!C2 -> Location of Mill | D2: Product | E2: =ConsistentHeaders!D2 -> 2009 Forest Region | F2: =ConsistentHeaders!E2 -> 2009 Forest District | G2: Estimated Annual Capacity
G3: (million sq. ft, 3/8" basis)
A4: =[8]My_Query!A2 -> 942 | B4: =[8]My_Query!B2 -> Peace Valley OSB | C4: =[8]My_Query!C2 -> Fort St John | D4: =[8]My_Query!D2 -> OSB | E4: =[8]My_Query!E2 -> Northern Interior | F4: =[8]My_Query!F2 -> Peace | G4: =[8]My_Query!G2 -> 1490.4
A5: =[8]My_Query!A3 -> 650 | B5: =[8]My_Query!B3 -> Louisiana Pacific/Tembec Operation | C5: =[8]My_Query!C3 -> Dawson Creek | D5: =[8]My_Query!D3 -> OSB | E5: =[8]My_Query!E3 -> Northern Interior | F5: =[8]My_Query!F3 -> Peace | G5: =[8]My_Query!G3 -> 388.12
A6: =[8]My_Query!A4 -> 411 | B6: =[8]My_Query!B4 -> Ainsworth Lumber Co Ltd | C6: =[8]My_Query!C4 -> 100 Mile House | D6: =[8]My_Query!D4 -> OSB | E6: =[8]My_Query!E4 -> Southern Interior | F6: =[8]My_Query!F4 -> 100 Mile House | G6: =[8]My_Query!G4 -> 457.86
A7: =[8]My_Query!A5 -> 109 | B7: =[8]My_Query!B5 -> Savona Specialty Plywood | C7: =[8]My_Query!C5 -> Savona | D7: =[8]My_Query!D5 -> PLY | E7: =[8]My_Query!E5 -> Southern Interior | F7: =[8]My_Query!F5 -> Kamloops | G7: =[8]My_Query!G5 -> 1499.98
A8: =[8]My_Query!A6 -> 84 | B8: =[8]My_Query!B6 -> LP Building Products - Canada | C8: =[8]My_Query!C6 -> Golden | D8: =[8]My_Query!D6 -> PLY | E8: =[8]My_Query!E6 -> Southern Interior | F8: =[8]My_Query!F6 -> Columbia | G8: =[8]My_Query!G6 -> 15.84
A9: =[8]My_Query!A7 -> 112 | B9: =[8]My_Query!B7 -> West Fraser Mills Limited | C9: =[8]My_Query!C7 -> Quesnel | D9: =[8]My_Query!D7 -> PLY | E9: =[8]My_Query!E7 -> Southern Interior | F9: =[8]My_Query!F7 -> Quesnel | G9: =[8]My_Query!G7 -> 213.84
A10: =[8]My_Query!A8 -> 105 | B10: =[8]My_Query!B8 -> West Fraser Mills Ltd. | C10: =[8]My_Query!C8 -> Williams Lake | D10: =[8]My_Query!D8 -> PLY | E10: =[8]My_Query!E8 -> Southern Interior | F10: =[8]My_Query!F8 -> Central Cariboo | G10: =[8]My_Query!G8 -> 194.4
A11: =[8]My_Query!A9 -> 394 | B11: =[8]My_Query!B9 -> Tolko Industries Ltd. | C11: =[8]My_Query!C9 -> Heffley Creek | D11: =[8]My_Query!D9 -> PLY | E11: =[8]My_Query!E9 -> Southern Interior | F11: =[8]My_Query!F9 -> Kamloops | G11: =[8]My_Query!G9 -> 185.76
A12: =[8]My_Query!A10 -> 478 | B12: =[8]My_Query!B10 -> Richmond Plywood Corporation Limited | C12: =[8]My_Query!C10 -> Richmond | D12: =[8]My_Query!D10 -> PLY | E12: =[8]My_Query!E10 -> Coast | F12: =[8]My_Query!F10 -> Chilliwack | G12: =[8]My_Query!G10 -> 216
A13: =[8]My_Query!A11 -> 12 | B13: =[8]My_Query!B11 -> Federated Co-operatives Limited | C13: =[8]My_Query!C11 -> Canoe | D13: =[8]My_Query!D11 -> PLY | E13: =[8]My_Query!E11 -> Southern Interior | F13: =[8]My_Query!F11 -> Okanagan Shuswap | G13: =[8]My_Query!G11 -> 417.6
A14: =[8]My_Query!A12 -> 68 | B14: =[8]My_Query!B12 -> Tolko Industries Ltd. | C14: =[8]My_Query!C12 -> Armstrong | D14: =[8]My_Query!D12 -> PLY | E14: =[8]My_Query!E12 -> Southern Interior | F14: =[8]My_Query!F12 -> Okanagan Shuswap | G14: =[8]My_Query!G12 -> 252
A15: =[8]My_Query!A13 -> 113 | B15: =[8]My_Query!B13 -> West Fraser Mills Ltd. | C15: =[8]My_Query!C13 -> Quesnel | D15: =[8]My_Query!D13 -> PNL | E15: =[8]My_Query!E13 -> Southern Interior | F15: =[8]My_Query!F13 -> Quesnel | G15: =[8]My_Query!G13 -> 310.5
... A29: =[8]My_Query!A27 -> 12 | B29: =[8]My_Query!B27 -> Federated Co-operatives Limited | C29: =[8]My_Query!C27 -> Canoe | D29: =[8]My_Query!D27 -> VNR | E29: =[8]My_Query!E27 -> Southern Interior | F29: =[8]My_Query!F27 -> Okanagan Shuswap | G29: =[8]My_Query!G27 -> 288

Sheet Other
F1: OTHER MILLS - 2011
A2: Mill Number | B2: Company | C2: Location of Mill | D2: Product | E2: =ConsistentHeaders!D2 -> 2009 Forest Region | F2: =ConsistentHeaders!E2 -> 2009 Forest District
A4: =[9]My_Query!A2 -> 84 | B4: =[9]My_Query!B2 -> LP Building Products - Canada | C4: =[9]My_Query!C2 -> Golden | D4: =[9]My_Query!D2 -> LVL | E4: =[9]My_Query!E2 -> Southern Interior | F4: =[9]My_Query!F2 -> Columbia | G4: =[9]My_Query!G2 -> 1.92
